Package: GSEAlm Version: 1.68.0 Command: /Library/Frameworks/R.framework/Resources/bin/R CMD INSTALL GSEAlm StartedAt: 2025-10-13 15:24:14 -0400 (Mon, 13 Oct 2025) EndedAt: 2025-10-13 15:24:30 -0400 (Mon, 13 Oct 2025) EllapsedTime: 16.1 seconds RetCode: 0 Status: OK