Package: GSEAlm Version: 1.68.0 Command: /Library/Frameworks/R.framework/Resources/bin/R CMD check --install=check:GSEAlm.install-out.txt --library=/Library/Frameworks/R.framework/Resources/library --no-vignettes --timings GSEAlm_1.68.0.tar.gz StartedAt: 2025-10-14 04:51:06 -0400 (Tue, 14 Oct 2025) EndedAt: 2025-10-14 04:51:57 -0400 (Tue, 14 Oct 2025) EllapsedTime: 51.1 seconds RetCode: 0 Status: OK CheckDir: GSEAlm.Rcheck Warnings: 0