Package: GSEAlm Version: 1.68.0 Command: /Library/Frameworks/R.framework/Resources/bin/R CMD build --keep-empty-dirs --no-resave-data GSEAlm StartedAt: 2025-10-13 19:34:34 -0400 (Mon, 13 Oct 2025) EndedAt: 2025-10-13 19:36:28 -0400 (Mon, 13 Oct 2025) EllapsedTime: 114.7 seconds RetCode: 0 Status: OK PackageFile: GSEAlm_1.68.0.tar.gz PackageFileSize: 1.243 MiB