Package: GSEAlm Version: 1.68.0 Command: /Library/Frameworks/R.framework/Resources/bin/R CMD check --install=check:GSEAlm.install-out.txt --library=/Library/Frameworks/R.framework/Resources/library --no-vignettes --timings GSEAlm_1.68.0.tar.gz StartedAt: 2025-04-21 21:08:39 -0400 (Mon, 21 Apr 2025) EndedAt: 2025-04-21 21:09:14 -0400 (Mon, 21 Apr 2025) EllapsedTime: 34.6 seconds RetCode: 0 Status: OK CheckDir: GSEAlm.Rcheck Warnings: 0