Package: GSEABenchmarkeR Version: 1.29.1 Command: /home/biocbuild/R/R/bin/R CMD check --install=check:GSEABenchmarkeR.install-out.txt --library=/home/biocbuild/R/R/site-library --no-vignettes --timings GSEABenchmarkeR_1.29.1.tar.gz StartedAt: 2025-10-17 09:50:52 -0000 (Fri, 17 Oct 2025) EndedAt: 2025-10-17 10:30:53 -0000 (Fri, 17 Oct 2025) EllapsedTime: 2400.1 seconds RetCode: None Status: TIMEOUT CheckDir: GSEABenchmarkeR.Rcheck Warnings: NA