Package: GSEABenchmarkeR Version: 1.29.1 Command: F:\biocbuild\bbs-3.22-bioc\R\bin\R.exe CMD check --no-multiarch --install=check:GSEABenchmarkeR.install-out.txt --library=F:\biocbuild\bbs-3.22-bioc\R\library --no-vignettes --timings GSEABenchmarkeR_1.29.1.tar.gz StartedAt: 2025-08-15 03:57:21 -0400 (Fri, 15 Aug 2025) EndedAt: 2025-08-15 04:03:48 -0400 (Fri, 15 Aug 2025) EllapsedTime: 387.5 seconds RetCode: 0 Status: OK CheckDir: GSEABenchmarkeR.Rcheck Warnings: 0