Package: GSEABenchmarkeR Version: 1.29.1 Command: rm -rf GSEABenchmarkeR.buildbin-libdir && mkdir GSEABenchmarkeR.buildbin-libdir && F:\biocbuild\bbs-3.22-bioc\R\bin\R.exe CMD INSTALL --build --library=GSEABenchmarkeR.buildbin-libdir GSEABenchmarkeR_1.29.1.tar.gz StartedAt: 2025-08-15 10:26:02 -0400 (Fri, 15 Aug 2025) EndedAt: 2025-08-15 10:27:53 -0400 (Fri, 15 Aug 2025) EllapsedTime: 111.1 seconds RetCode: 0 Status: OK PackageFile: GSEABenchmarkeR_1.29.1.zip PackageFileSize: 634.7 KiB