Package: GSEABenchmarkeR Version: 1.30.0 Command: /home/biocbuild/bbs-3.22-bioc/R/bin/R CMD INSTALL GSEABenchmarkeR StartedAt: 2025-11-06 16:01:40 -0500 (Thu, 06 Nov 2025) EndedAt: 2025-11-06 16:02:00 -0500 (Thu, 06 Nov 2025) EllapsedTime: 20.3 seconds RetCode: 0 Status: OK