Package: GSEABenchmarkeR Version: 1.30.0 Command: /home/biocbuild/bbs-3.22-bioc/R/bin/R CMD check --install=check:GSEABenchmarkeR.install-out.txt --library=/home/biocbuild/bbs-3.22-bioc/R/site-library --timings GSEABenchmarkeR_1.30.0.tar.gz StartedAt: 2025-11-07 00:14:42 -0500 (Fri, 07 Nov 2025) EndedAt: 2025-11-07 00:22:00 -0500 (Fri, 07 Nov 2025) EllapsedTime: 438.6 seconds RetCode: 0 Status: OK CheckDir: GSEABenchmarkeR.Rcheck Warnings: 0