Package: GSAR Version: 1.44.0 Command: /Library/Frameworks/R.framework/Resources/bin/R CMD build --keep-empty-dirs --no-resave-data GSAR StartedAt: 2025-10-31 17:19:51 -0400 (Fri, 31 Oct 2025) EndedAt: 2025-10-31 17:25:57 -0400 (Fri, 31 Oct 2025) EllapsedTime: 366.1 seconds RetCode: 0 Status: OK PackageFile: GSAR_1.44.0.tar.gz PackageFileSize: 1.774 MiB