Package: GRmetrics Version: 1.34.0 Command: chmod a+r GRmetrics -R && E:\biocbuild\bbs-3.21-bioc\R\bin\R.exe CMD build --keep-empty-dirs --no-resave-data GRmetrics StartedAt: 2025-08-14 19:33:10 -0400 (Thu, 14 Aug 2025) EndedAt: 2025-08-14 19:34:18 -0400 (Thu, 14 Aug 2025) EllapsedTime: 68.5 seconds RetCode: 0 Status: OK PackageFile: GRmetrics_1.34.0.tar.gz PackageFileSize: 1.617 MiB