Package: GRmetrics Version: 1.36.0 Command: /home/biocbuild/bbs-3.22-bioc/R/bin/R CMD INSTALL GRmetrics StartedAt: 2025-11-06 15:24:37 -0500 (Thu, 06 Nov 2025) EndedAt: 2025-11-06 15:24:57 -0500 (Thu, 06 Nov 2025) EllapsedTime: 20.5 seconds RetCode: 0 Status: OK