Package: GRmetrics Version: 1.36.0 Command: /home/biocbuild/bbs-3.22-bioc/R/bin/R CMD check --install=check:GRmetrics.install-out.txt --library=/home/biocbuild/bbs-3.22-bioc/R/site-library --timings GRmetrics_1.36.0.tar.gz StartedAt: 2025-11-07 00:12:58 -0500 (Fri, 07 Nov 2025) EndedAt: 2025-11-07 00:15:24 -0500 (Fri, 07 Nov 2025) EllapsedTime: 146.1 seconds RetCode: 0 Status: OK CheckDir: GRmetrics.Rcheck Warnings: 0