Package: GRmetrics Version: 1.36.0 Command: /home/biocbuild/bbs-3.22-bioc/R/bin/R CMD build --keep-empty-dirs --no-resave-data --md5 GRmetrics StartedAt: 2025-11-06 18:00:16 -0500 (Thu, 06 Nov 2025) EndedAt: 2025-11-06 18:01:04 -0500 (Thu, 06 Nov 2025) EllapsedTime: 48.0 seconds RetCode: 0 Status: OK PackageFile: GRmetrics_1.36.0.tar.gz PackageFileSize: 1.921 MiB