Package: GRENITS Version: 1.60.0 Command: E:\biocbuild\bbs-3.21-bioc\R\bin\R.exe CMD check --no-multiarch --install=check:GRENITS.install-out.txt --library=E:\biocbuild\bbs-3.21-bioc\R\library --no-vignettes --timings GRENITS_1.60.0.tar.gz StartedAt: 2025-08-15 02:52:49 -0400 (Fri, 15 Aug 2025) EndedAt: 2025-08-15 02:56:36 -0400 (Fri, 15 Aug 2025) EllapsedTime: 226.6 seconds RetCode: 0 Status: OK CheckDir: GRENITS.Rcheck Warnings: 0