Package: GRENITS Version: 1.60.0 Command: /home/biocbuild/bbs-3.21-bioc/R/bin/R CMD INSTALL GRENITS StartedAt: 2025-10-01 15:10:22 -0400 (Wed, 01 Oct 2025) EndedAt: 2025-10-01 15:11:49 -0400 (Wed, 01 Oct 2025) EllapsedTime: 86.7 seconds RetCode: 0 Status: OK