Package: GRENITS Version: 1.60.0 Command: /home/biocbuild/bbs-3.21-bioc/R/bin/R CMD check --install=check:GRENITS.install-out.txt --library=/home/biocbuild/bbs-3.21-bioc/R/site-library --timings GRENITS_1.60.0.tar.gz StartedAt: 2025-10-01 23:50:46 -0400 (Wed, 01 Oct 2025) EndedAt: 2025-10-01 23:54:21 -0400 (Wed, 01 Oct 2025) EllapsedTime: 214.4 seconds RetCode: 0 Status: OK CheckDir: GRENITS.Rcheck Warnings: 0