Package: GRENITS Version: 1.60.0 Command: /home/biocbuild/R/R/bin/R CMD check --install=check:GRENITS.install-out.txt --library=/home/biocbuild/R/R/site-library --no-vignettes --timings GRENITS_1.60.0.tar.gz StartedAt: 2025-09-26 11:14:54 -0000 (Fri, 26 Sep 2025) EndedAt: 2025-09-26 11:18:35 -0000 (Fri, 26 Sep 2025) EllapsedTime: 221.2 seconds RetCode: 0 Status: OK CheckDir: GRENITS.Rcheck Warnings: 0