Package: GPA Version: 1.22.0 Command: /home/biocbuild/R/R/bin/R CMD INSTALL GPA StartedAt: 2025-11-17 21:11:04 -0000 (Mon, 17 Nov 2025) EndedAt: 2025-11-17 21:11:36 -0000 (Mon, 17 Nov 2025) EllapsedTime: 31.9 seconds RetCode: 0 Status: OK