Package: GPA Version: 1.22.0 Command: /Library/Frameworks/R.framework/Resources/bin/R CMD build --keep-empty-dirs --no-resave-data GPA StartedAt: 2025-11-17 22:56:28 -0500 (Mon, 17 Nov 2025) EndedAt: 2025-11-17 23:00:23 -0500 (Mon, 17 Nov 2025) EllapsedTime: 235.0 seconds RetCode: 0 Status: OK PackageFile: GPA_1.22.0.tar.gz PackageFileSize: 310.8 KiB