Package: GOstats Version: 2.74.0 Command: /home/biocbuild/bbs-3.21-bioc/R/bin/R CMD check --install=check:GOstats.install-out.txt --library=/home/biocbuild/bbs-3.21-bioc/R/site-library --timings GOstats_2.74.0.tar.gz StartedAt: 2025-10-15 23:49:11 -0400 (Wed, 15 Oct 2025) EndedAt: 2025-10-16 00:04:45 -0400 (Thu, 16 Oct 2025) EllapsedTime: 933.4 seconds RetCode: 0 Status: OK CheckDir: GOstats.Rcheck Warnings: 0