Package: GOstats Version: 2.74.0 Command: /Library/Frameworks/R.framework/Resources/bin/R CMD INSTALL GOstats StartedAt: 2025-10-13 16:23:24 -0400 (Mon, 13 Oct 2025) EndedAt: 2025-10-13 16:24:10 -0400 (Mon, 13 Oct 2025) EllapsedTime: 46.6 seconds RetCode: 0 Status: OK