Package: GOstats Version: 2.74.0 Command: /home/biocbuild/R/R/bin/R CMD INSTALL GOstats StartedAt: 2025-10-13 21:03:09 -0000 (Mon, 13 Oct 2025) EndedAt: 2025-10-13 21:03:40 -0000 (Mon, 13 Oct 2025) EllapsedTime: 31.7 seconds RetCode: 0 Status: OK