Package: GOstats Version: 2.74.0 Command: /home/biocbuild/R/R/bin/R CMD check --install=check:GOstats.install-out.txt --library=/home/biocbuild/R/R/site-library --no-vignettes --timings GOstats_2.74.0.tar.gz StartedAt: 2025-10-10 09:38:33 -0000 (Fri, 10 Oct 2025) EndedAt: 2025-10-10 09:43:36 -0000 (Fri, 10 Oct 2025) EllapsedTime: 303.2 seconds RetCode: 0 Status: OK CheckDir: GOstats.Rcheck Warnings: 0