Package: GOstats Version: 2.74.0 Command: /home/biocbuild/R/R/bin/R CMD build --keep-empty-dirs --no-resave-data GOstats StartedAt: 2025-10-14 01:24:18 -0000 (Tue, 14 Oct 2025) EndedAt: 2025-10-14 01:39:41 -0000 (Tue, 14 Oct 2025) EllapsedTime: 923.1 seconds RetCode: 1 Status: ERROR PackageFile: None PackageFileSize: NA