Package: GOstats Version: 2.74.0 Command: /Library/Frameworks/R.framework/Resources/bin/R CMD check --install=check:GOstats.install-out.txt --library=/Library/Frameworks/R.framework/Resources/library --no-vignettes --timings GOstats_2.74.0.tar.gz StartedAt: 2025-10-14 23:40:19 -0400 (Tue, 14 Oct 2025) EndedAt: 2025-10-14 23:44:47 -0400 (Tue, 14 Oct 2025) EllapsedTime: 267.5 seconds RetCode: 0 Status: OK CheckDir: GOstats.Rcheck Warnings: 0