Package: GOpro Version: 1.36.0 Command: /home/biocbuild/bbs-3.22-bioc/R/bin/R CMD check --install=check:GOpro.install-out.txt --library=/home/biocbuild/bbs-3.22-bioc/R/site-library --timings GOpro_1.36.0.tar.gz StartedAt: 2025-11-03 00:27:24 -0500 (Mon, 03 Nov 2025) EndedAt: 2025-11-03 00:31:35 -0500 (Mon, 03 Nov 2025) EllapsedTime: 251.2 seconds RetCode: 0 Status: OK CheckDir: GOpro.Rcheck Warnings: 0