Package: GOpro Version: 1.36.0 Command: /Library/Frameworks/R.framework/Resources/bin/R CMD INSTALL GOpro StartedAt: 2025-10-31 15:27:45 -0400 (Fri, 31 Oct 2025) EndedAt: 2025-10-31 15:27:59 -0400 (Fri, 31 Oct 2025) EllapsedTime: 14.6 seconds RetCode: 0 Status: OK