Package: GOpro Version: 1.36.0 Command: /Library/Frameworks/R.framework/Resources/bin/R CMD check --install=check:GOpro.install-out.txt --library=/Library/Frameworks/R.framework/Resources/library --no-vignettes --timings GOpro_1.36.0.tar.gz StartedAt: 2025-11-05 20:34:51 -0500 (Wed, 05 Nov 2025) EndedAt: 2025-11-05 20:36:21 -0500 (Wed, 05 Nov 2025) EllapsedTime: 90.0 seconds RetCode: 0 Status: OK CheckDir: GOpro.Rcheck Warnings: 0