Package: GOpro Version: 1.36.0 Command: /Library/Frameworks/R.framework/Resources/bin/R CMD build --keep-empty-dirs --no-resave-data GOpro StartedAt: 2025-10-31 16:39:09 -0400 (Fri, 31 Oct 2025) EndedAt: 2025-10-31 16:39:37 -0400 (Fri, 31 Oct 2025) EllapsedTime: 28.3 seconds RetCode: 0 Status: OK PackageFile: GOpro_1.36.0.tar.gz PackageFileSize: 1.057 MiB