Package: GOfuncR Version: 1.29.0 Command: /home/biocbuild/R/R/bin/R CMD INSTALL GOfuncR StartedAt: 2025-10-23 20:58:20 -0000 (Thu, 23 Oct 2025) EndedAt: 2025-10-23 21:00:38 -0000 (Thu, 23 Oct 2025) EllapsedTime: 137.8 seconds RetCode: 0 Status: OK