Package: GOfuncR Version: 1.29.0 Command: /home/biocbuild/R/R/bin/R CMD check --install=check:GOfuncR.install-out.txt --library=/home/biocbuild/R/R/site-library --no-vignettes --timings GOfuncR_1.29.0.tar.gz StartedAt: 2025-10-17 09:43:25 -0000 (Fri, 17 Oct 2025) EndedAt: 2025-10-17 09:48:57 -0000 (Fri, 17 Oct 2025) EllapsedTime: 332.2 seconds RetCode: 0 Status: OK CheckDir: GOfuncR.Rcheck Warnings: 0