Package: GOfuncR Version: 1.30.0 Command: /Library/Frameworks/R.framework/Resources/bin/R CMD check --install=check:GOfuncR.install-out.txt --library=/Library/Frameworks/R.framework/Resources/library --no-vignettes --timings GOfuncR_1.30.0.tar.gz StartedAt: 2025-11-03 21:38:45 -0500 (Mon, 03 Nov 2025) EndedAt: 2025-11-03 21:44:50 -0500 (Mon, 03 Nov 2025) EllapsedTime: 364.4 seconds RetCode: 0 Status: OK CheckDir: GOfuncR.Rcheck Warnings: 0