Package: GOfuncR Version: 1.30.0 Command: /Library/Frameworks/R.framework/Resources/bin/R CMD build --keep-empty-dirs --no-resave-data GOfuncR StartedAt: 2025-11-03 17:13:18 -0500 (Mon, 03 Nov 2025) EndedAt: 2025-11-03 17:18:19 -0500 (Mon, 03 Nov 2025) EllapsedTime: 300.7 seconds RetCode: 0 Status: OK PackageFile: GOfuncR_1.30.0.tar.gz PackageFileSize: 5.211 MiB