Package: GOSemSim Version: 2.36.0 Command: /home/biocbuild/bbs-3.22-bioc/R/bin/R CMD build --keep-empty-dirs --no-resave-data --md5 GOSemSim StartedAt: 2025-11-17 21:18:36 -0500 (Mon, 17 Nov 2025) EndedAt: 2025-11-17 21:19:00 -0500 (Mon, 17 Nov 2025) EllapsedTime: 24.0 seconds RetCode: 0 Status: OK PackageFile: GOSemSim_2.36.0.tar.gz PackageFileSize: 596.7 KiB