Package: GNOSIS Version: 1.6.0 Command: /Library/Frameworks/R.framework/Resources/bin/R CMD INSTALL GNOSIS StartedAt: 2025-10-13 16:19:04 -0400 (Mon, 13 Oct 2025) EndedAt: 2025-10-13 16:21:17 -0400 (Mon, 13 Oct 2025) EllapsedTime: 132.4 seconds RetCode: 0 Status: OK