Package: GNOSIS Version: 1.6.0 Command: /Library/Frameworks/R.framework/Resources/bin/R CMD build --keep-empty-dirs --no-resave-data GNOSIS StartedAt: 2025-10-14 01:29:42 -0400 (Tue, 14 Oct 2025) EndedAt: 2025-10-14 01:31:24 -0400 (Tue, 14 Oct 2025) EllapsedTime: 101.9 seconds RetCode: 0 Status: OK PackageFile: GNOSIS_1.6.0.tar.gz PackageFileSize: 3.374 MiB