Package: GNOSIS Version: 1.6.0 Command: rm -rf GNOSIS.buildbin-libdir && mkdir GNOSIS.buildbin-libdir && /Users/biocbuild/BBS/utils/build-universal.sh GNOSIS_1.6.0.tar.gz /Library/Frameworks/R.framework/Resources/bin/R GNOSIS.buildbin-libdir StartedAt: 2025-10-15 18:44:47 -0400 (Wed, 15 Oct 2025) EndedAt: 2025-10-15 18:46:06 -0400 (Wed, 15 Oct 2025) EllapsedTime: 79.2 seconds RetCode: 0 Status: OK PackageFile: GNOSIS_1.6.0.tgz PackageFileSize: 2.533 MiB