Package: GNET2 Version: 1.26.0 Command: /home/biocbuild/bbs-3.22-bioc/R/bin/R CMD INSTALL GNET2 StartedAt: 2025-11-06 15:18:29 -0500 (Thu, 06 Nov 2025) EndedAt: 2025-11-06 15:19:04 -0500 (Thu, 06 Nov 2025) EllapsedTime: 34.2 seconds RetCode: 0 Status: OK