Package: GNET2 Version: 1.26.0 Command: rm -rf GNET2.buildbin-libdir && mkdir GNET2.buildbin-libdir && /Users/biocbuild/BBS/utils/build-universal.sh GNET2_1.26.0.tar.gz /Library/Frameworks/R.framework/Resources/bin/R GNET2.buildbin-libdir StartedAt: 2025-11-04 01:43:14 -0500 (Tue, 04 Nov 2025) EndedAt: 2025-11-04 01:44:01 -0500 (Tue, 04 Nov 2025) EllapsedTime: 47.5 seconds RetCode: 0 Status: OK PackageFile: GNET2_1.26.0.tgz PackageFileSize: 915.2 KiB