Package: GNET2 Version: 1.26.0 Command: /Library/Frameworks/R.framework/Resources/bin/R CMD check --install=check:GNET2.install-out.txt --library=/Library/Frameworks/R.framework/Resources/library --no-vignettes --timings GNET2_1.26.0.tar.gz StartedAt: 2025-11-09 20:06:54 -0500 (Sun, 09 Nov 2025) EndedAt: 2025-11-09 20:08:02 -0500 (Sun, 09 Nov 2025) EllapsedTime: 67.7 seconds RetCode: 0 Status: OK CheckDir: GNET2.Rcheck Warnings: 0