Package: GNET2 Version: 1.26.0 Command: /Library/Frameworks/R.framework/Resources/bin/R CMD build --keep-empty-dirs --no-resave-data GNET2 StartedAt: 2025-11-06 16:34:55 -0500 (Thu, 06 Nov 2025) EndedAt: 2025-11-06 16:35:15 -0500 (Thu, 06 Nov 2025) EllapsedTime: 20.2 seconds RetCode: 0 Status: OK PackageFile: GNET2_1.26.0.tar.gz PackageFileSize: 789.5 KiB