Package: GNET2 Version: 1.26.0 Command: rm -rf GNET2.buildbin-libdir && mkdir GNET2.buildbin-libdir && /Users/biocbuild/BBS/utils/build-universal.sh GNET2_1.26.0.tar.gz /Library/Frameworks/R.framework/Resources/bin/R GNET2.buildbin-libdir StartedAt: 2025-11-06 23:07:06 -0500 (Thu, 06 Nov 2025) EndedAt: 2025-11-06 23:07:21 -0500 (Thu, 06 Nov 2025) EllapsedTime: 14.3 seconds RetCode: 0 Status: OK PackageFile: GNET2_1.26.0.tgz PackageFileSize: 917.5 KiB