Package: GMRP Version: 1.36.0 Command: /home/biocbuild/bbs-3.21-bioc/R/bin/R CMD INSTALL GMRP StartedAt: 2025-10-08 15:16:39 -0400 (Wed, 08 Oct 2025) EndedAt: 2025-10-08 15:16:48 -0400 (Wed, 08 Oct 2025) EllapsedTime: 9.2 seconds RetCode: 0 Status: OK