Package: GIGSEA Version: 1.26.0 Command: /Library/Frameworks/R.framework/Resources/bin/R CMD INSTALL GIGSEA StartedAt: 2025-10-13 15:15:52 -0400 (Mon, 13 Oct 2025) EndedAt: 2025-10-13 15:16:02 -0400 (Mon, 13 Oct 2025) EllapsedTime: 9.9 seconds RetCode: 0 Status: OK