Package: GIGSEA Version: 1.26.0 Command: /Library/Frameworks/R.framework/Resources/bin/R CMD check --install=check:GIGSEA.install-out.txt --library=/Library/Frameworks/R.framework/Resources/library --no-vignettes --timings GIGSEA_1.26.0.tar.gz StartedAt: 2025-10-14 23:20:20 -0400 (Tue, 14 Oct 2025) EndedAt: 2025-10-14 23:21:47 -0400 (Tue, 14 Oct 2025) EllapsedTime: 87.5 seconds RetCode: 0 Status: OK CheckDir: GIGSEA.Rcheck Warnings: 0