Package: GGPA Version: 1.21.0 Command: /home/biocbuild/R/R/bin/R CMD check --install=check:GGPA.install-out.txt --library=/home/biocbuild/R/R/site-library --no-vignettes --timings GGPA_1.21.0.tar.gz StartedAt: 2025-10-17 09:35:56 -0000 (Fri, 17 Oct 2025) EndedAt: 2025-10-17 09:40:54 -0000 (Fri, 17 Oct 2025) EllapsedTime: 298.2 seconds RetCode: 0 Status: OK CheckDir: GGPA.Rcheck Warnings: 0