Package: GGPA Version: 1.22.0 Command: rm -rf GGPA.buildbin-libdir && mkdir GGPA.buildbin-libdir && /Users/biocbuild/BBS/utils/build-universal.sh GGPA_1.22.0.tar.gz /Library/Frameworks/R.framework/Resources/bin/R GGPA.buildbin-libdir StartedAt: 2025-11-09 23:09:55 -0500 (Sun, 09 Nov 2025) EndedAt: 2025-11-09 23:10:06 -0500 (Sun, 09 Nov 2025) EllapsedTime: 11.3 seconds RetCode: 0 Status: OK PackageFile: GGPA_1.22.0.tgz PackageFileSize: 2.862 MiB