Package: GEWIST Version: 1.54.0 Command: /home/biocbuild/bbs-3.22-bioc/R/bin/R CMD INSTALL GEWIST StartedAt: 2025-11-06 15:09:12 -0500 (Thu, 06 Nov 2025) EndedAt: 2025-11-06 15:09:19 -0500 (Thu, 06 Nov 2025) EllapsedTime: 7.3 seconds RetCode: 0 Status: OK