Package: GEWIST Version: 1.54.0 Command: /home/biocbuild/bbs-3.22-bioc/R/bin/R CMD check --install=check:GEWIST.install-out.txt --library=/home/biocbuild/bbs-3.22-bioc/R/site-library --timings GEWIST_1.54.0.tar.gz StartedAt: 2025-11-07 00:02:10 -0500 (Fri, 07 Nov 2025) EndedAt: 2025-11-07 00:04:05 -0500 (Fri, 07 Nov 2025) EllapsedTime: 115.2 seconds RetCode: 0 Status: OK CheckDir: GEWIST.Rcheck Warnings: 0